BEGIN:VCALENDAR
VERSION:2.0
PRODID:spatie/icalendar-generator
DESCRIPTION:Events from EAT Marketplace | Farm to Table Eatery\, Cafe\, Bak
 ery and Caterer in Temecula
X-WR-CALDESC:Events from EAT Marketplace | Farm to Table Eatery\, Cafe\, Ba
 kery and Caterer in Temecula
REFRESH-INTERVAL;VALUE=DURATION:PT1440M
X-PUBLISHED-TTL:PT1440M
BEGIN:VTIMEZONE
TZID:Etc/GMT+0
BEGIN:STANDARD
DTSTART:20220517T000000Z
TZOFFSETFROM:+0000
TZOFFSETTO:+0000
END:STANDARD
END:VTIMEZONE
BEGIN:VTIMEZONE
TZID:UTC
BEGIN:STANDARD
DTSTART:20250729T102228Z
TZOFFSETFROM:+0000
TZOFFSETTO:+0000
END:STANDARD
END:VTIMEZONE
BEGIN:VEVENT
UID:3-3
DTSTAMP:20260425T102228Z
SUMMARY:Valentines Weekend at EAT!
LOCATION:
ORGANIZER;CN=skylar:MAILTO:skylar@eatmarketplace.com
DTSTART;TZID=Etc/GMT+0;VALUE=DATE:20230211
DTEND;TZID=Etc/GMT+0;VALUE=DATE:20230214
X-ALT-DESC;FMTTYPE=TEXT/HTML:Celebrate the season of love with EAT! check o
 ut our special Valentine's Donuts! Donut Pick-up will be available The 11t
 h-13th. Note: we will be closed on the day of Valentines
CATEGORIES:General
URL;VALUE=URI:https://eatmarketplace.com/mc-events/valentines-weekend-at-ea
 t/
METHOD:PUBLISH
END:VEVENT
END:VCALENDAR