BEGIN:VCALENDAR
VERSION:2.0
PRODID:spatie/icalendar-generator
DESCRIPTION:Events from EAT Marketplace | Farm to Table Eatery\, Cafe\, Bak
 ery and Caterer in Temecula
X-WR-CALDESC:Events from EAT Marketplace | Farm to Table Eatery\, Cafe\, Ba
 kery and Caterer in Temecula
REFRESH-INTERVAL;VALUE=DURATION:PT1440M
X-PUBLISHED-TTL:PT1440M
BEGIN:VTIMEZONE
TZID:Etc/GMT+0
BEGIN:STANDARD
DTSTART:20230103T110000Z
TZOFFSETFROM:+0000
TZOFFSETTO:+0000
END:STANDARD
END:VTIMEZONE
BEGIN:VTIMEZONE
TZID:UTC
BEGIN:STANDARD
DTSTART:20250728T140405Z
TZOFFSETFROM:+0000
TZOFFSETTO:+0000
END:STANDARD
END:VTIMEZONE
BEGIN:VEVENT
UID:17-16
DTSTAMP:20260424T140405Z
SUMMARY:TEDx Temecula Catering by EAT!
LOCATION:Old Town Temecula Community Theatre  42051 Main St\, Temecula\, CA
  92590
ORGANIZER;CN=skylar:MAILTO:skylar@eatmarketplace.com
DTSTART;TZID=Etc/GMT+0:20230930T110000
DTEND;TZID=Etc/GMT+0:20230930T150000
X-ALT-DESC;FMTTYPE=TEXT/HTML:Join us Saturday\, September 30th at 11 a.m. f
 or our 12 annual Tedx Conference. This is the perfect opportunity to exper
 ience amazing speakers\, entertainers\, food\, and wine all in the Beautif
 ul Old Town Temecula Theatre. These local speakers will present ideas wort
 h spreading on a wide range of topics from community and the arts to&amp;helli
 p\;
CATEGORIES:General
URL;VALUE=URI:https://eatmarketplace.com/mc-events/tedx-temecula-catering-b
 y-eat/
METHOD:PUBLISH
END:VEVENT
END:VCALENDAR