BEGIN:VCALENDAR
VERSION:2.0
PRODID:spatie/icalendar-generator
DESCRIPTION:Events from EAT Marketplace | Farm to Table Eatery\, Cafe\, Bak
 ery and Caterer in Temecula
X-WR-CALDESC:Events from EAT Marketplace | Farm to Table Eatery\, Cafe\, Ba
 kery and Caterer in Temecula
REFRESH-INTERVAL;VALUE=DURATION:PT1440M
X-PUBLISHED-TTL:PT1440M
BEGIN:VTIMEZONE
TZID:Etc/GMT+0
BEGIN:STANDARD
DTSTART:20220517T000000Z
TZOFFSETFROM:+0000
TZOFFSETTO:+0000
END:STANDARD
END:VTIMEZONE
BEGIN:VTIMEZONE
TZID:UTC
BEGIN:STANDARD
DTSTART:20250728T203101Z
TZOFFSETFROM:+0000
TZOFFSETTO:+0000
END:STANDARD
END:VTIMEZONE
BEGIN:VEVENT
UID:14-13
DTSTAMP:20260424T203101Z
SUMMARY:Super Bowl Catering pick-up
LOCATION:
ORGANIZER;CN=skylar:MAILTO:skylar@eatmarketplace.com
DTSTART;TZID=Etc/GMT+0;VALUE=DATE:20230211
DTEND;TZID=Etc/GMT+0;VALUE=DATE:20230212
X-ALT-DESC;FMTTYPE=TEXT/HTML:Super Bowl Sunday pick-ups will be held the da
 y prior Feb 11th!
CATEGORIES:General
URL;VALUE=URI:https://eatmarketplace.com/mc-events/super-bowl-catering-pick
 -up/
METHOD:PUBLISH
END:VEVENT
END:VCALENDAR