BEGIN:VCALENDAR
VERSION:2.0
PRODID:spatie/icalendar-generator
DESCRIPTION:Events from EAT Marketplace | Farm to Table Eatery\, Cafe\, Bak
 ery and Caterer in Temecula
X-WR-CALDESC:Events from EAT Marketplace | Farm to Table Eatery\, Cafe\, Ba
 kery and Caterer in Temecula
REFRESH-INTERVAL;VALUE=DURATION:PT1440M
X-PUBLISHED-TTL:PT1440M
BEGIN:VTIMEZONE
TZID:Etc/GMT+0
BEGIN:STANDARD
DTSTART:20220620T000000Z
TZOFFSETFROM:+0000
TZOFFSETTO:+0000
END:STANDARD
END:VTIMEZONE
BEGIN:VTIMEZONE
TZID:UTC
BEGIN:STANDARD
DTSTART:20250729T040952Z
TZOFFSETFROM:+0000
TZOFFSETTO:+0000
END:STANDARD
END:VTIMEZONE
BEGIN:VEVENT
UID:7-7
DTSTAMP:20260425T040952Z
SUMMARY:St. Patricks Day At EAT
LOCATION:
ORGANIZER;CN=skylar:MAILTO:skylar@eatmarketplace.com
DTSTART;TZID=Etc/GMT+0;VALUE=DATE:20230317
DTEND;TZID=Etc/GMT+0;VALUE=DATE:20230318
X-ALT-DESC;FMTTYPE=TEXT/HTML:Join us on St. Patties day for our special hol
 iday donuts.
CATEGORIES:General
URL;VALUE=URI:https://eatmarketplace.com/mc-events/st-patricks-day-at-eat/
METHOD:PUBLISH
END:VEVENT
END:VCALENDAR