BEGIN:VCALENDAR
VERSION:2.0
PRODID:spatie/icalendar-generator
DESCRIPTION:Events from EAT Marketplace | Farm to Table Eatery\, Cafe\, Bak
 ery and Caterer in Temecula
X-WR-CALDESC:Events from EAT Marketplace | Farm to Table Eatery\, Cafe\, Ba
 kery and Caterer in Temecula
REFRESH-INTERVAL;VALUE=DURATION:PT1440M
X-PUBLISHED-TTL:PT1440M
BEGIN:VTIMEZONE
TZID:Etc/GMT+0
BEGIN:STANDARD
DTSTART:20240225T180000Z
TZOFFSETFROM:+0000
TZOFFSETTO:+0000
END:STANDARD
END:VTIMEZONE
BEGIN:VTIMEZONE
TZID:UTC
BEGIN:STANDARD
DTSTART:20250728T032539Z
TZOFFSETFROM:+0000
TZOFFSETTO:+0000
END:STANDARD
END:VTIMEZONE
BEGIN:VEVENT
UID:27-25
DTSTAMP:20260424T032539Z
SUMMARY:Pie Crust Making Workshop
LOCATION:
ORGANIZER;CN=E.A.T-Marketplace:MAILTO:eat@thebrandinghive.com
DTSTART;TZID=Etc/GMT+0:20241121T180000
DTEND;TZID=Etc/GMT+0:20241121T200000
X-ALT-DESC;FMTTYPE=TEXT/HTML:Join us for our Pie Crust Making Workshop\, wh
 ere you’ll learn the art of crafting delicious\, homemade gluten free pi
 e crust from scratch with Pastry Chefs from E.A.T Marketplace\, a farm-to-
 table style eatery here in Temecula. Perfect for bakers of all levels\, th
 is hands-on class will guide you through each step.
CATEGORIES:General
URL;VALUE=URI:https://eatmarketplace.com/mc-events/pie-crust-making-worksho
 p/
METHOD:PUBLISH
END:VEVENT
END:VCALENDAR