BEGIN:VCALENDAR
VERSION:2.0
PRODID:spatie/icalendar-generator
DESCRIPTION:Events from EAT Marketplace | Farm to Table Eatery\, Cafe\, Bak
 ery and Caterer in Temecula
X-WR-CALDESC:Events from EAT Marketplace | Farm to Table Eatery\, Cafe\, Ba
 kery and Caterer in Temecula
REFRESH-INTERVAL;VALUE=DURATION:PT1440M
X-PUBLISHED-TTL:PT1440M
BEGIN:VTIMEZONE
TZID:Etc/GMT+0
BEGIN:STANDARD
DTSTART:20240120T173000Z
TZOFFSETFROM:+0000
TZOFFSETTO:+0000
END:STANDARD
END:VTIMEZONE
BEGIN:VTIMEZONE
TZID:UTC
BEGIN:STANDARD
DTSTART:20250728T061554Z
TZOFFSETFROM:+0000
TZOFFSETTO:+0000
END:STANDARD
END:VTIMEZONE
BEGIN:VEVENT
UID:25-23
DTSTAMP:20260424T061554Z
SUMMARY:October Evening Mixer
LOCATION:State Farm Insurance Agent Julie Ngo 41881 5th St.  Temecula Calif
 ornia 92590
ORGANIZER;CN=Web Master:MAILTO:webmaster@thebrandinghive.com
DTSTART;TZID=Etc/GMT+0:20241016T173000
DTEND;TZID=Etc/GMT+0:20241016T193000
X-ALT-DESC;FMTTYPE=TEXT/HTML:Join us for an evening of business networking 
 at Julie Ngo Agency State Farm Insurance. This mixer is located at Julie'
 s office in the heart of Old Town Temecula. Enjoy great food\, refreshment
 s\, and entertainment. As business professionals\, we all know that networ
 king is an important aspect of growing our careers and businesses. Attendi
 ng TVCC's Monthly&amp;hellip\;
CATEGORIES:General
URL;VALUE=URI:https://eatmarketplace.com/mc-events/october-evening-mixer/
METHOD:PUBLISH
END:VEVENT
END:VCALENDAR