BEGIN:VCALENDAR
VERSION:2.0
PRODID:spatie/icalendar-generator
DESCRIPTION:Events from EAT Marketplace | Farm to Table Eatery\, Cafe\, Bak
 ery and Caterer in Temecula
X-WR-CALDESC:Events from EAT Marketplace | Farm to Table Eatery\, Cafe\, Ba
 kery and Caterer in Temecula
REFRESH-INTERVAL;VALUE=DURATION:PT1440M
X-PUBLISHED-TTL:PT1440M
BEGIN:VTIMEZONE
TZID:Etc/GMT+0
BEGIN:STANDARD
DTSTART:20220817T080000Z
TZOFFSETFROM:+0000
TZOFFSETTO:+0000
END:STANDARD
END:VTIMEZONE
BEGIN:VTIMEZONE
TZID:UTC
BEGIN:STANDARD
DTSTART:20250728T233133Z
TZOFFSETFROM:+0000
TZOFFSETTO:+0000
END:STANDARD
END:VTIMEZONE
BEGIN:VEVENT
UID:12-11
DTSTAMP:20260424T233133Z
SUMMARY:Mothers Day Brunch
LOCATION:
ORGANIZER;CN=skylar:MAILTO:skylar@eatmarketplace.com
DTSTART;TZID=Etc/GMT+0:20230514T080000
DTEND;TZID=Etc/GMT+0:20230514T140000
X-ALT-DESC;FMTTYPE=TEXT/HTML:Join Us on May 13th for a special Mother's Day
  Brunch
CATEGORIES:General
URL;VALUE=URI:https://eatmarketplace.com/mc-events/mothers-day-brunch/
METHOD:PUBLISH
END:VEVENT
END:VCALENDAR