BEGIN:VCALENDAR
VERSION:2.0
PRODID:spatie/icalendar-generator
DESCRIPTION:Events from EAT Marketplace | Farm to Table Eatery\, Cafe\, Bak
 ery and Caterer in Temecula
X-WR-CALDESC:Events from EAT Marketplace | Farm to Table Eatery\, Cafe\, Ba
 kery and Caterer in Temecula
REFRESH-INTERVAL;VALUE=DURATION:PT1440M
X-PUBLISHED-TTL:PT1440M
BEGIN:VTIMEZONE
TZID:Etc/GMT+0
BEGIN:STANDARD
DTSTART:20250321T173000Z
TZOFFSETFROM:+0000
TZOFFSETTO:+0000
END:STANDARD
END:VTIMEZONE
BEGIN:VTIMEZONE
TZID:UTC
BEGIN:STANDARD
DTSTART:20250727T143058Z
TZOFFSETFROM:+0000
TZOFFSETTO:+0000
END:STANDARD
END:VTIMEZONE
BEGIN:VEVENT
UID:42-34
DTSTAMP:20260423T143058Z
SUMMARY:Mini Gingerbread House Decorating Class
LOCATION:
ORGANIZER;CN=E.A.T-Marketplace:MAILTO:eat@thebrandinghive.com
DTSTART;TZID=Etc/GMT+0:20251216T173000
DTEND;TZID=Etc/GMT+0:20251216T200000
X-ALT-DESC;FMTTYPE=TEXT/HTML:The holidays wouldn't be the holidays without 
 partaking in sweets. Join us for one night only as we collaborate with E.A
 .T Marketplace. Their pastry chef will guide us in decorating a holiday do
 nut topped with a mini gingerbread house. All gluten-free! Enjoy festive e
 ats and sips and an exclusive night of event shop discount at&amp;hellip\;
CATEGORIES:General
URL;VALUE=URI:https://eatmarketplace.com/mc-events/mini-gingerbread-house-d
 ecorating-class/
METHOD:PUBLISH
END:VEVENT
END:VCALENDAR