BEGIN:VCALENDAR
VERSION:2.0
PRODID:spatie/icalendar-generator
DESCRIPTION:Events from EAT Marketplace | Farm to Table Eatery\, Cafe\, Bak
 ery and Caterer in Temecula
X-WR-CALDESC:Events from EAT Marketplace | Farm to Table Eatery\, Cafe\, Ba
 kery and Caterer in Temecula
REFRESH-INTERVAL;VALUE=DURATION:PT1440M
X-PUBLISHED-TTL:PT1440M
BEGIN:VTIMEZONE
TZID:Etc/GMT+0
BEGIN:STANDARD
DTSTART:20231231T000000Z
TZOFFSETFROM:+0000
TZOFFSETTO:+0000
END:STANDARD
END:VTIMEZONE
BEGIN:VTIMEZONE
TZID:UTC
BEGIN:STANDARD
DTSTART:20250728T123344Z
TZOFFSETFROM:+0000
TZOFFSETTO:+0000
END:STANDARD
END:VTIMEZONE
BEGIN:VEVENT
UID:19-18
DTSTAMP:20260424T123344Z
SUMMARY:Kombucha Workshop with \"Kompoocha\"
LOCATION:
ORGANIZER;CN=Web Master:MAILTO:webmaster@thebrandinghive.com
DTSTART;TZID=Etc/GMT+0:20240926T000000
DTEND;TZID=Etc/GMT+0:20240926T010000
X-ALT-DESC;FMTTYPE=TEXT/HTML:$20 Tickets
CATEGORIES:General
URL;VALUE=URI:https://eatmarketplace.com/mc-events/kombucha-workshop-with-k
 ompoocha/
METHOD:PUBLISH
END:VEVENT
END:VCALENDAR