BEGIN:VCALENDAR
VERSION:2.0
PRODID:spatie/icalendar-generator
DESCRIPTION:Events from EAT Marketplace | Farm to Table Eatery\, Cafe\, Bak
 ery and Caterer in Temecula
X-WR-CALDESC:Events from EAT Marketplace | Farm to Table Eatery\, Cafe\, Ba
 kery and Caterer in Temecula
REFRESH-INTERVAL;VALUE=DURATION:PT1440M
X-PUBLISHED-TTL:PT1440M
BEGIN:VTIMEZONE
TZID:Etc/GMT+0
BEGIN:STANDARD
DTSTART:20240918T080000Z
TZOFFSETFROM:+0000
TZOFFSETTO:+0000
END:STANDARD
END:VTIMEZONE
BEGIN:VTIMEZONE
TZID:UTC
BEGIN:STANDARD
DTSTART:20250727T193500Z
TZOFFSETFROM:+0000
TZOFFSETTO:+0000
END:STANDARD
END:VTIMEZONE
BEGIN:VEVENT
UID:35-31
DTSTAMP:20260423T193500Z
SUMMARY:Hello Daddy Brunch
LOCATION:
ORGANIZER;CN=Web Master:MAILTO:webmaster@thebrandinghive.com
DTSTART;TZID=Etc/GMT+0:20250615T080000
DTEND;TZID=Etc/GMT+0:20250615T090000
X-ALT-DESC;FMTTYPE=TEXT/HTML:Go To Event
CATEGORIES:General
URL;VALUE=URI:https://eatmarketplace.com/mc-events/hello-daddy-brunch/
METHOD:PUBLISH
END:VEVENT
END:VCALENDAR