BEGIN:VCALENDAR
VERSION:2.0
PRODID:spatie/icalendar-generator
DESCRIPTION:Events from EAT Marketplace | Farm to Table Eatery\, Cafe\, Bak
 ery and Caterer in Temecula
X-WR-CALDESC:Events from EAT Marketplace | Farm to Table Eatery\, Cafe\, Ba
 kery and Caterer in Temecula
REFRESH-INTERVAL;VALUE=DURATION:PT1440M
X-PUBLISHED-TTL:PT1440M
BEGIN:VTIMEZONE
TZID:Etc/GMT+0
BEGIN:STANDARD
DTSTART:20240423T120000Z
TZOFFSETFROM:+0000
TZOFFSETTO:+0000
END:STANDARD
END:VTIMEZONE
BEGIN:VTIMEZONE
TZID:UTC
BEGIN:STANDARD
DTSTART:20250727T143620Z
TZOFFSETFROM:+0000
TZOFFSETTO:+0000
END:STANDARD
END:VTIMEZONE
BEGIN:VEVENT
UID:39-33
DTSTAMP:20260423T143620Z
SUMMARY:Girls Gather - Akash Winery
LOCATION:
ORGANIZER;CN=E.A.T-Marketplace:MAILTO:eat@thebrandinghive.com
DTSTART;TZID=Etc/GMT+0:20250118T120000
DTEND;TZID=Etc/GMT+0:20250118T170000
X-ALT-DESC;FMTTYPE=TEXT/HTML:Go To Event
CATEGORIES:General
URL;VALUE=URI:https://eatmarketplace.com/mc-events/girls-gather-akash-winer
 y/
METHOD:PUBLISH
END:VEVENT
END:VCALENDAR