BEGIN:VCALENDAR
VERSION:2.0
PRODID:spatie/icalendar-generator
DESCRIPTION:Events from EAT Marketplace | Farm to Table Eatery\, Cafe\, Bak
 ery and Caterer in Temecula
X-WR-CALDESC:Events from EAT Marketplace | Farm to Table Eatery\, Cafe\, Ba
 kery and Caterer in Temecula
REFRESH-INTERVAL;VALUE=DURATION:PT1440M
X-PUBLISHED-TTL:PT1440M
BEGIN:VTIMEZONE
TZID:Etc/GMT+0
BEGIN:STANDARD
DTSTART:20250423T120000Z
TZOFFSETFROM:+0000
TZOFFSETTO:+0000
END:STANDARD
END:VTIMEZONE
BEGIN:VTIMEZONE
TZID:UTC
BEGIN:STANDARD
DTSTART:20250727T175904Z
TZOFFSETFROM:+0000
TZOFFSETTO:+0000
END:STANDARD
END:VTIMEZONE
BEGIN:VEVENT
UID:41-32
DTSTAMP:20260423T175904Z
SUMMARY:Girls Gather - Akash Winery
LOCATION:
ORGANIZER;CN=E.A.T-Marketplace:MAILTO:eat@thebrandinghive.com
DTSTART;TZID=Etc/GMT+0:20260118T120000
DTEND;TZID=Etc/GMT+0:20260118T170000
X-ALT-DESC;FMTTYPE=TEXT/HTML:Kickstart the new year with a fresh approach\,
  bringing together incredible women who will share their expertise on what
  we put on our skin\, what we nourish our bodies with\, and how to lead ab
 undant lives. Health is at the core of the Girls Gather mission\, and this
  event is all about building a vibrant&amp;hellip\;
CATEGORIES:General
URL;VALUE=URI:https://eatmarketplace.com/mc-events/girls-gather-akash-winer
 y-2/
METHOD:PUBLISH
END:VEVENT
END:VCALENDAR