BEGIN:VCALENDAR
VERSION:2.0
PRODID:spatie/icalendar-generator
DESCRIPTION:Events from EAT Marketplace | Farm to Table Eatery\, Cafe\, Bak
 ery and Caterer in Temecula
X-WR-CALDESC:Events from EAT Marketplace | Farm to Table Eatery\, Cafe\, Ba
 kery and Caterer in Temecula
REFRESH-INTERVAL;VALUE=DURATION:PT1440M
X-PUBLISHED-TTL:PT1440M
BEGIN:VTIMEZONE
TZID:Etc/GMT+0
BEGIN:STANDARD
DTSTART:20220712T000000Z
TZOFFSETFROM:+0000
TZOFFSETTO:+0000
END:STANDARD
END:VTIMEZONE
BEGIN:VTIMEZONE
TZID:UTC
BEGIN:STANDARD
DTSTART:20250729T005452Z
TZOFFSETFROM:+0000
TZOFFSETTO:+0000
END:STANDARD
END:VTIMEZONE
BEGIN:VEVENT
UID:9-9
DTSTAMP:20260425T005452Z
SUMMARY:Easter catering pick-up
LOCATION:
ORGANIZER;CN=skylar:MAILTO:skylar@eatmarketplace.com
DTSTART;TZID=Etc/GMT+0;VALUE=DATE:20230408
DTEND;TZID=Etc/GMT+0;VALUE=DATE:20230409
X-ALT-DESC;FMTTYPE=TEXT/HTML:Easter pick-up will be available on April 8th!
CATEGORIES:General
URL;VALUE=URI:https://eatmarketplace.com/mc-events/easter-catering-pick-up/
METHOD:PUBLISH
END:VEVENT
END:VCALENDAR