BEGIN:VCALENDAR
VERSION:2.0
PRODID:spatie/icalendar-generator
DESCRIPTION:Events from EAT Marketplace | Farm to Table Eatery\, Cafe\, Bak
 ery and Caterer in Temecula
X-WR-CALDESC:Events from EAT Marketplace | Farm to Table Eatery\, Cafe\, Ba
 kery and Caterer in Temecula
REFRESH-INTERVAL;VALUE=DURATION:PT1440M
X-PUBLISHED-TTL:PT1440M
BEGIN:VTIMEZONE
TZID:Etc/GMT+0
BEGIN:STANDARD
DTSTART:20240128T000000Z
TZOFFSETFROM:+0000
TZOFFSETTO:+0000
END:STANDARD
END:VTIMEZONE
BEGIN:VTIMEZONE
TZID:UTC
BEGIN:STANDARD
DTSTART:20250728T075008Z
TZOFFSETFROM:+0000
TZOFFSETTO:+0000
END:STANDARD
END:VTIMEZONE
BEGIN:VEVENT
UID:22-20
DTSTAMP:20260424T075008Z
SUMMARY:Culinary Experience With Chef Leah Delyte
LOCATION:
ORGANIZER;CN=Web Master:MAILTO:webmaster@thebrandinghive.com
DTSTART;TZID=Etc/GMT+0:20241024T000000
DTEND;TZID=Etc/GMT+0:20241024T010000
X-ALT-DESC;FMTTYPE=TEXT/HTML:Exploring Healing Bone Broths and Stocks $30 T
 ickets
CATEGORIES:General
URL;VALUE=URI:https://eatmarketplace.com/mc-events/culinary-experience-with
 -chef-leah-delyte/
METHOD:PUBLISH
END:VEVENT
END:VCALENDAR