BEGIN:VCALENDAR
VERSION:2.0
PRODID:spatie/icalendar-generator
DESCRIPTION:Events from EAT Marketplace | Farm to Table Eatery\, Cafe\, Bak
 ery and Caterer in Temecula
X-WR-CALDESC:Events from EAT Marketplace | Farm to Table Eatery\, Cafe\, Ba
 kery and Caterer in Temecula
REFRESH-INTERVAL;VALUE=DURATION:PT1440M
X-PUBLISHED-TTL:PT1440M
BEGIN:VTIMEZONE
TZID:Etc/GMT+0
BEGIN:STANDARD
DTSTART:20240723T000000Z
TZOFFSETFROM:+0000
TZOFFSETTO:+0000
END:STANDARD
END:VTIMEZONE
BEGIN:VTIMEZONE
TZID:UTC
BEGIN:STANDARD
DTSTART:20250727T224318Z
TZOFFSETFROM:+0000
TZOFFSETTO:+0000
END:STANDARD
END:VTIMEZONE
BEGIN:VEVENT
UID:30-28
DTSTAMP:20260423T224318Z
SUMMARY:Crafted Easter Menu - Easter Meal / Cake Pick Up
LOCATION:
ORGANIZER;CN=E.A.T-Marketplace:MAILTO:eat@thebrandinghive.com
DTSTART;TZID=Etc/GMT+0;VALUE=DATE:20250419
DTEND;TZID=Etc/GMT+0;VALUE=DATE:20250420
X-ALT-DESC;FMTTYPE=TEXT/HTML:Pre-Order Your Favorite EASTER Desserts\, Savo
 ry Mains And Side Dishes
CATEGORIES:General
URL;VALUE=URI:https://eatmarketplace.com/mc-events/crafted-easter-menu-east
 er-meal-cake-pick-up/
METHOD:PUBLISH
END:VEVENT
END:VCALENDAR