BEGIN:VCALENDAR
VERSION:2.0
PRODID:spatie/icalendar-generator
DESCRIPTION:Events from EAT Marketplace | Farm to Table Eatery\, Cafe\, Bak
 ery and Caterer in Temecula
X-WR-CALDESC:Events from EAT Marketplace | Farm to Table Eatery\, Cafe\, Ba
 kery and Caterer in Temecula
REFRESH-INTERVAL;VALUE=DURATION:PT1440M
X-PUBLISHED-TTL:PT1440M
BEGIN:VTIMEZONE
TZID:Etc/GMT+0
BEGIN:STANDARD
DTSTART:20240724T090000Z
TZOFFSETFROM:+0000
TZOFFSETTO:+0000
END:STANDARD
END:VTIMEZONE
BEGIN:VTIMEZONE
TZID:UTC
BEGIN:STANDARD
DTSTART:20250727T211217Z
TZOFFSETFROM:+0000
TZOFFSETTO:+0000
END:STANDARD
END:VTIMEZONE
BEGIN:VEVENT
UID:31-29
DTSTAMP:20260423T211217Z
SUMMARY:Crafted Easter Menu - Easter Brunch
LOCATION:
ORGANIZER;CN=E.A.T-Marketplace:MAILTO:eat@thebrandinghive.com
DTSTART;TZID=Etc/GMT+0:20250420T090000
DTEND;TZID=Etc/GMT+0:20250420T140000
X-ALT-DESC;FMTTYPE=TEXT/HTML:Special Brunch Menu With Special Hours For The
  Day - Opening At 9am\, Closing at 2pm. We Are Taking Reservations For Lar
 ge Parties.
CATEGORIES:General
URL;VALUE=URI:https://eatmarketplace.com/mc-events/crafted-easter-menu-east
 er-brunch/
METHOD:PUBLISH
END:VEVENT
END:VCALENDAR