BEGIN:VCALENDAR
VERSION:2.0
PRODID:spatie/icalendar-generator
DESCRIPTION:Events from EAT Marketplace | Farm to Table Eatery\, Cafe\, Bak
 ery and Caterer in Temecula
X-WR-CALDESC:Events from EAT Marketplace | Farm to Table Eatery\, Cafe\, Ba
 kery and Caterer in Temecula
REFRESH-INTERVAL;VALUE=DURATION:PT1440M
X-PUBLISHED-TTL:PT1440M
BEGIN:VTIMEZONE
TZID:Etc/GMT+0
BEGIN:STANDARD
DTSTART:20250811T000000Z
TZOFFSETFROM:+0000
TZOFFSETTO:+0000
END:STANDARD
END:VTIMEZONE
BEGIN:VTIMEZONE
TZID:UTC
BEGIN:STANDARD
DTSTART:20250727T092827Z
TZOFFSETFROM:+0000
TZOFFSETTO:+0000
END:STANDARD
END:VTIMEZONE
BEGIN:VEVENT
UID:71-40
DTSTAMP:20260423T092827Z
SUMMARY:Butter Class
LOCATION:E.A.T Marketplace &amp;amp\; Eatery 28410 Old Town Front Street  Temec
 ula California 92590
ORGANIZER;CN=Web Master:MAILTO:webmaster@thebrandinghive.com
DTSTART;TZID=Etc/GMT+0;VALUE=DATE:20260508
DTEND;TZID=Etc/GMT+0;VALUE=DATE:20260509
X-ALT-DESC;FMTTYPE=TEXT/HTML:\"Make Butter.\" Learn How To Make Butter From
  Scratch This workshop celebrates the art of the handmade\, turning a simp
 le kitchen staple into a thoughtful gesture of care for your table or thos
 e you love.
CATEGORIES:General
URL;VALUE=URI:https://eatmarketplace.com/mc-events/butter-class/
METHOD:PUBLISH
END:VEVENT
END:VCALENDAR