BEGIN:VCALENDAR
VERSION:2.0
PRODID:spatie/icalendar-generator
DESCRIPTION:Events from EAT Marketplace | Farm to Table Eatery\, Cafe\, Bak
 ery and Caterer in Temecula
X-WR-CALDESC:Events from EAT Marketplace | Farm to Table Eatery\, Cafe\, Ba
 kery and Caterer in Temecula
REFRESH-INTERVAL;VALUE=DURATION:PT1440M
X-PUBLISHED-TTL:PT1440M
BEGIN:VTIMEZONE
TZID:Etc/GMT+0
BEGIN:STANDARD
DTSTART:20240128T170000Z
TZOFFSETFROM:+0000
TZOFFSETTO:+0000
END:STANDARD
END:VTIMEZONE
BEGIN:VTIMEZONE
TZID:UTC
BEGIN:STANDARD
DTSTART:20250728T050015Z
TZOFFSETFROM:+0000
TZOFFSETTO:+0000
END:STANDARD
END:VTIMEZONE
BEGIN:VEVENT
UID:26-24
DTSTAMP:20260424T050015Z
SUMMARY:Broth &amp;amp\; Balance
LOCATION:E.A.T Marketplace &amp;amp\; Eatery 28410 Old Town Front Street  Temec
 ula California 92590
ORGANIZER;CN=Web Master:MAILTO:webmaster@thebrandinghive.com
DTSTART;TZID=Etc/GMT+0:20241024T170000
DTEND;TZID=Etc/GMT+0:20241024T190000
X-ALT-DESC;FMTTYPE=TEXT/HTML:Come join us at E.A.T Marketplace &amp;amp\; Eate
 ry for a day of delicious food and wellness! At Broth &amp;amp\; Balance\, yo
 u'll have the opportunity to indulge in nourishing broths while learning a
 bout the importance of balance in your diet and lifestyle. Our event will 
 feature interactive workshops\, cooking demos\, and plenty of tasty sample
 s to try. Whether&amp;hellip\;
CATEGORIES:General
URL;VALUE=URI:https://eatmarketplace.com/mc-events/broth-balance/
METHOD:PUBLISH
END:VEVENT
END:VCALENDAR