BEGIN:VCALENDAR
VERSION:2.0
PRODID:spatie/icalendar-generator
DESCRIPTION:Events from EAT Marketplace | Farm to Table Eatery\, Cafe\, Bak
 ery and Caterer in Temecula
X-WR-CALDESC:Events from EAT Marketplace | Farm to Table Eatery\, Cafe\, Ba
 kery and Caterer in Temecula
REFRESH-INTERVAL;VALUE=DURATION:PT1440M
X-PUBLISHED-TTL:PT1440M
BEGIN:VTIMEZONE
TZID:Etc/GMT+0
BEGIN:STANDARD
DTSTART:20240624T110000Z
TZOFFSETFROM:+0000
TZOFFSETTO:+0000
END:STANDARD
END:VTIMEZONE
BEGIN:VTIMEZONE
TZID:UTC
BEGIN:STANDARD
DTSTART:20250728T014615Z
TZOFFSETFROM:+0000
TZOFFSETTO:+0000
END:STANDARD
END:VTIMEZONE
BEGIN:VEVENT
UID:28-26
DTSTAMP:20260424T014615Z
SUMMARY:Bar Take Over...
LOCATION:
ORGANIZER;CN=E.A.T-Marketplace:MAILTO:eat@thebrandinghive.com
DTSTART;TZID=Etc/GMT+0:20250321T110000
DTEND;TZID=Etc/GMT+0:20250323T150000
X-ALT-DESC;FMTTYPE=TEXT/HTML:Experience A Curated Selection Of Local Wines 
 Guides By Joe &amp;amp\; Jasmine Wiens Of Lost Ranch Winery Lost Ranch Is Comm
 itted To Organic And Regenerative Farming Practices\, Prioritizing Environ
 mental Stewardship\, And The Health Of Our Land. Focusing On Sourcing The 
 Best Grape Variety For Temecula\, Minimizing Inputs While Maximizing Grape
  Quality. &amp;nbsp\;
CATEGORIES:General
URL;VALUE=URI:https://eatmarketplace.com/mc-events/bar-take-over/
METHOD:PUBLISH
END:VEVENT
END:VCALENDAR