BEGIN:VCALENDAR
VERSION:2.0
PRODID:spatie/icalendar-generator
DESCRIPTION:Events from EAT Marketplace | Farm to Table Eatery\, Cafe\, Bak
 ery and Caterer in Temecula
X-WR-CALDESC:Events from EAT Marketplace | Farm to Table Eatery\, Cafe\, Ba
 kery and Caterer in Temecula
REFRESH-INTERVAL;VALUE=DURATION:PT1440M
X-PUBLISHED-TTL:PT1440M
BEGIN:VTIMEZONE
TZID:Etc/GMT+0
BEGIN:STANDARD
DTSTART:20220706T000000Z
TZOFFSETFROM:+0000
TZOFFSETTO:+0000
END:STANDARD
END:VTIMEZONE
BEGIN:VTIMEZONE
TZID:UTC
BEGIN:STANDARD
DTSTART:20250729T035602Z
TZOFFSETFROM:+0000
TZOFFSETTO:+0000
END:STANDARD
END:VTIMEZONE
BEGIN:VEVENT
UID:8-8
DTSTAMP:20260425T035602Z
SUMMARY:Autism Awareness Day
LOCATION:
ORGANIZER;CN=skylar:MAILTO:skylar@eatmarketplace.com
DTSTART;TZID=Etc/GMT+0;VALUE=DATE:20230402
DTEND;TZID=Etc/GMT+0;VALUE=DATE:20230403
X-ALT-DESC;FMTTYPE=TEXT/HTML:Join us at Eat marketplace as we observe Autis
 m awareness day.
CATEGORIES:General
URL;VALUE=URI:https://eatmarketplace.com/mc-events/autism-awareness-day/
METHOD:PUBLISH
END:VEVENT
END:VCALENDAR